BEGIN:VCALENDAR
VERSION:2.0
PRODID:-//Sabre//Sabre VObject 4.5.8//EN
CALSCALE:GREGORIAN
BEGIN:VEVENT
UID:sabre-vobject-10fd4439-ac88-4ed2-be11-b63c47bdcd72
DTSTAMP:20260420T010819Z
SUMMARY:CYS Valentine's Day Dance
DESCRIPTION:Child and Youth services Presents their annual Valentine&#39\;s
  Day Dance. Semi formal dance party for kids Kindergarten - Highschool. Sn
 acks\, Live DJ\, 360 Photo Booth\, Games\, Prizes and so much more!\n
X-ALT-DESC:FMTTYPE=text/html:<!DOCTYPE HTML PUBLIC "-//W3C//DTD HTML 3.2//E
 N"><HTML><p>Child and Youth services Presents their annual Valentine&#39\;
 s Day Dance. Semi formal dance party for kids Kindergarten - Highschool. S
 nacks\, Live DJ\, 360 Photo Booth\, Games\, Prizes and so much more!</p>\n
 </HTML>
CREATED;TZID=America/New_York:20250203T111858
URL;VALUE=URI:https://detrick.armymwr.com/calendar/event
DTSTART;TZID=America/New_York:20250207T170000
DTEND;TZID=America/New_York:20250207T190000
SEQUENCE:0
END:VEVENT
END:VCALENDAR
