BEGIN:VCALENDAR
VERSION:2.0
PRODID:-//Sabre//Sabre VObject 4.5.8//EN
CALSCALE:GREGORIAN
BEGIN:VEVENT
UID:sabre-vobject-9c14cf4e-aefa-4273-92ac-372a30422d9b
DTSTAMP:20260425T203247Z
SUMMARY:AER Campaign Kickoff
DESCRIPTION:The Army Emergency Relief Campaign is held each year from Mar-M
 ay and will be considered a success when 100% awareness of the program is 
 provided to the community and maximum contributions are received to suppor
 t eligible Service Members with financial assistance in emergencies or to 
 prevent a potential crises. Cupcakes given out to kickoff the event.\n
X-ALT-DESC:FMTTYPE=text/html:<!DOCTYPE HTML PUBLIC "-//W3C//DTD HTML 3.2//E
 N"><HTML><p>The Army Emergency Relief Campaign is held each year from Mar-
 May and will be considered a success when 100% awareness of the program is
  provided to the community and maximum contributions are received to suppo
 rt eligible Service Members with financial assistance in emergencies or to
  prevent a potential crises. Cupcakes given out to kickoff the event.</p>\
 n</HTML>
CREATED;TZID=America/New_York:20220216T090608
URL;VALUE=URI:https://detrick.armymwr.com/calendar/event
DTSTART;TZID=America/New_York:20220301T130000
DTEND;TZID=America/New_York:20220301T160000
SEQUENCE:0
END:VEVENT
END:VCALENDAR
