BEGIN:VCALENDAR
VERSION:2.0
PRODID:-//Sabre//Sabre VObject 4.5.8//EN
CALSCALE:GREGORIAN
BEGIN:VEVENT
UID:sabre-vobject-e2bce1d2-4e01-466a-8d2c-e469e66b60ac
DTSTAMP:20260425T005810Z
SUMMARY:The Shamrock 5K
DESCRIPTION:A 5k run where the participants can dress up in green and 4 lea
 f clovers in celebration of St. Patrick&#39\;s Day. Music will be at the s
 tart and finish line\, refreshments\, bananas\, oranges and protein bars t
 o finish off the run. 1st and 2nd place male and female winners. Trophies 
 and giveaways.\n
X-ALT-DESC:FMTTYPE=text/html:<!DOCTYPE HTML PUBLIC "-//W3C//DTD HTML 3.2//E
 N"><HTML><p>A 5k run where the participants can dress up in green and 4 le
 af clovers in celebration of St. Patrick&#39\;s Day. Music will be at the 
 start and finish line\, refreshments\, bananas\, oranges and protein bars 
 to finish off the run. 1st and 2nd place male and female winners. Trophies
  and giveaways.</p>\n</HTML>
CREATED;TZID=America/New_York:20220303T085546
URL;VALUE=URI:https://detrick.armymwr.com/calendar/event
DTSTART;TZID=America/New_York:20220319T080000
DTEND;TZID=America/New_York:20220319T120000
SEQUENCE:0
END:VEVENT
END:VCALENDAR
