BEGIN:VCALENDAR
VERSION:2.0
PRODID:-//Sabre//Sabre VObject 4.5.8//EN
CALSCALE:GREGORIAN
BEGIN:VEVENT
UID:sabre-vobject-0a351130-65c0-475d-baca-4ff604b1414a
DTSTAMP:20260424T130027Z
SUMMARY:Intramural Softball Coaches Meeting
DESCRIPTION:The season will run from 5 April through 30 June 2021.\n
X-ALT-DESC:FMTTYPE=text/html:<!DOCTYPE HTML PUBLIC "-//W3C//DTD HTML 3.2//E
 N"><HTML><p>The season will run from 5 April through 30 June 2021.</p>\n</
 HTML>
CREATED;TZID=America/New_York:20210114T124751
URL;VALUE=URI:https://detrick.armymwr.com/calendar/event
DTSTART;TZID=America/New_York:20210317T140000
DTEND;TZID=America/New_York:20210317T150000
SEQUENCE:0
END:VEVENT
END:VCALENDAR
