BEGIN:VCALENDAR
VERSION:2.0
PRODID:-//Sabre//Sabre VObject 4.5.8//EN
CALSCALE:GREGORIAN
BEGIN:VEVENT
UID:sabre-vobject-f63dea42-663f-4d11-ba7d-bb0013b3f992
DTSTAMP:20260419T133749Z
SUMMARY:Operation Happy Holiday
DESCRIPTION:
X-ALT-DESC:FMTTYPE=text/html:<!DOCTYPE HTML PUBLIC "-//W3C//DTD HTML 3.2//E
 N"><HTML></HTML>
CREATED;TZID=America/New_York:20191017T145214
URL;VALUE=URI:https://detrick.armymwr.com/calendar/event
DTSTART;TZID=America/New_York:20191016T000000
DTEND;TZID=America/New_York:20191202T235959
SEQUENCE:0
END:VEVENT
END:VCALENDAR
