BEGIN:VCALENDAR
VERSION:2.0
PRODID:-//Sabre//Sabre VObject 4.5.8//EN
CALSCALE:GREGORIAN
BEGIN:VEVENT
UID:sabre-vobject-789070d5-1edb-4a50-b35d-970dfc16cee4
DTSTAMP:20260420T152235Z
SUMMARY:Running Club
DESCRIPTION:CYS Sports &amp\; Fitness\n
X-ALT-DESC:FMTTYPE=text/html:<!DOCTYPE HTML PUBLIC "-//W3C//DTD HTML 3.2//E
 N"><HTML><p>CYS Sports &amp\; Fitness</p>\n</HTML>
CREATED;TZID=America/New_York:20191009T084210
URL;VALUE=URI:https://detrick.armymwr.com/calendar/event
DTSTART;TZID=America/New_York:20190903T000000
DTEND;TZID=America/New_York:20191109T235959
SEQUENCE:0
END:VEVENT
END:VCALENDAR
