BEGIN:VCALENDAR
VERSION:2.0
PRODID:-//Sabre//Sabre VObject 4.5.8//EN
CALSCALE:GREGORIAN
BEGIN:VEVENT
UID:sabre-vobject-655bce59-034b-41f4-938d-1b1e55238d85
DTSTAMP:20260420T052311Z
SUMMARY:Kids Night Out
DESCRIPTION:Forest Glen\n
X-ALT-DESC:FMTTYPE=text/html:<!DOCTYPE HTML PUBLIC "-//W3C//DTD HTML 3.2//E
 N"><HTML><p>Forest Glen</p>\n</HTML>
CREATED;TZID=America/New_York:20190904T130715
URL;VALUE=URI:https://detrick.armymwr.com/calendar/event
DTSTART;TZID=America/New_York:20190927T180000
DTEND;TZID=America/New_York:20190927T220000
SEQUENCE:0
END:VEVENT
END:VCALENDAR
