BEGIN:VCALENDAR
VERSION:2.0
PRODID:-//Sabre//Sabre VObject 4.5.8//EN
CALSCALE:GREGORIAN
BEGIN:VEVENT
UID:sabre-vobject-f2323641-5609-42c8-bdd0-a4e91aa1e491
DTSTAMP:20260424T190822Z
SUMMARY:Outdoor Pool Schedule
DESCRIPTION:
X-ALT-DESC:FMTTYPE=text/html:<!DOCTYPE HTML PUBLIC "-//W3C//DTD HTML 3.2//E
 N"><HTML></HTML>
CREATED;TZID=America/New_York:20190624T123028
URL;VALUE=URI:https://detrick.armymwr.com/calendar/event
DTSTART;TZID=America/New_York:20190525T000000
DTEND;TZID=America/New_York:20190902T235959
SEQUENCE:0
END:VEVENT
END:VCALENDAR
