BEGIN:VCALENDAR
VERSION:2.0
PRODID:-//Sabre//Sabre VObject 4.5.8//EN
CALSCALE:GREGORIAN
BEGIN:VEVENT
UID:sabre-vobject-f9b9bc92-c9dd-4be7-b093-a12bfb5809ab
DTSTAMP:20260423T223253Z
SUMMARY:Cirque du Soleil Corteo
DESCRIPTION:Leisure Travel Services HOT TICKET OF THE MONTH\n
X-ALT-DESC:FMTTYPE=text/html:<!DOCTYPE HTML PUBLIC "-//W3C//DTD HTML 3.2//E
 N"><HTML><p>Leisure Travel Services HOT TICKET OF THE MONTH</p>\n</HTML>
CREATED;TZID=America/New_York:20190415T133250
URL;VALUE=URI:https://detrick.armymwr.com/calendar/event
DTSTART;TZID=America/New_York:20190703T000000
DTEND;TZID=America/New_York:20190707T235959
SEQUENCE:0
END:VEVENT
END:VCALENDAR
