BEGIN:VCALENDAR
VERSION:2.0
PRODID:-//Sabre//Sabre VObject 4.5.8//EN
CALSCALE:GREGORIAN
BEGIN:VEVENT
UID:sabre-vobject-2cb4edf6-a532-48e6-ae45-3f779e8f4003
DTSTAMP:20260422T051505Z
SUMMARY:CYS Kids & Kicks
DESCRIPTION:
X-ALT-DESC:FMTTYPE=text/html:<!DOCTYPE HTML PUBLIC "-//W3C//DTD HTML 3.2//E
 N"><HTML></HTML>
CREATED;TZID=America/New_York:20190108T115552
URL;VALUE=URI:https://detrick.armymwr.com/calendar/event
DTSTART;TZID=America/New_York:20190708T171500
DTEND;TZID=America/New_York:20190708T180000
SEQUENCE:0
END:VEVENT
END:VCALENDAR
